BEGIN:VCALENDAR
VERSION:2.0
PRODID:-//Historischer Verein Herne / Wanne-Eickel e. V.//NONSGML kigkonsult.se iCalcreator 2.41.92//
CALSCALE:GREGORIAN
METHOD:PUBLISH
UID:36353237-6362-4265-b837-623132323563
X-WR-CALNAME:iCagenda
X-WR-CALDESC:Event Management Extension for Joomla!
X-WR-RELCALID:3E26604A-50F4-4449-8B3E-E4F4932D05B5
X-WR-TIMEZONE:Europe/Berlin
BEGIN:VTIMEZONE
TZID:Europe/Berlin
TZUNTIL:20191027T010000Z
BEGIN:STANDARD
TZNAME:CET
DTSTART:20171029T030000
TZOFFSETFROM:+0200
TZOFFSETTO:+0100
RDATE:20181028T030000
END:STANDARD
BEGIN:DAYLIGHT
TZNAME:CEST
DTSTART:20170326T020000
TZOFFSETFROM:+0100
TZOFFSETTO:+0200
RDATE:20180325T020000
RDATE:20190331T020000
END:DAYLIGHT
END:VTIMEZONE
BEGIN:VEVENT
UID:32336661-6436-4234-a432-626330633963
DTSTAMP:20260423T023457Z
CATEGORIES:Veranstaltungen
CLASS:PUBLIC
DESCRIPTION;ALTREP="CID:<FFFF__=0ABBE548DFE235B58f9e8a93d@coffeebean.com>":
 Am Freitag\, 23. März\, wird die Skulptur der Herner Künstlerin Elisabeth 
 Hoffmann\, um 11:45 Uhr auf dem Schulhof der Mont-Cenis Gesamtschule offiz
 iell als Denkmal\, mit einem feierlichen Akt\, eingeweiht. Zu diesem Anlas
 s sind alle interessierten Bürgerinnen und Bürger ebenfalls herzlich einge
 laden.
DTSTART:20180323T104500Z
DTEND:20180323T120000Z
GEO:+51.538525;+7.246619
LOCATION:Mont-Cenis Gesamtschule
ORGANIZER:
SEQUENCE:1
SUMMARY:Einweihung des Denkmals
TRANSP:OPAQUE
URL:https://hv-her-wan.de/index.php/component/icagenda/31-einweihung-des-de
 nkmals
END:VEVENT
END:VCALENDAR
