BEGIN:VCALENDAR
VERSION:2.0
PRODID:-//Historischer Verein Herne / Wanne-Eickel e. V.//NONSGML kigkonsult.se iCalcreator 2.41.92//
CALSCALE:GREGORIAN
METHOD:PUBLISH
UID:30643639-6433-4539-b962-303936393163
X-WR-CALNAME:iCagenda
X-WR-CALDESC:Event Management Extension for Joomla!
X-WR-RELCALID:3E26604A-50F4-4449-8B3E-E4F4932D05B5
X-WR-TIMEZONE:Europe/Berlin
BEGIN:VTIMEZONE
TZID:Europe/Berlin
TZUNTIL:20191027T010000Z
BEGIN:STANDARD
TZNAME:CET
DTSTART:20171029T030000
TZOFFSETFROM:+0200
TZOFFSETTO:+0100
RDATE:20181028T030000
END:STANDARD
BEGIN:DAYLIGHT
TZNAME:CEST
DTSTART:20180325T020000
TZOFFSETFROM:+0100
TZOFFSETTO:+0200
RDATE:20190331T020000
END:DAYLIGHT
END:VTIMEZONE
BEGIN:VEVENT
UID:39396663-6662-4565-b864-653435653061
DTSTAMP:20260421T094259Z
CATEGORIES:Veranstaltung Historischer Verein Herne/Wanne-Eickel
CLASS:PUBLIC
DESCRIPTION;ALTREP="CID:<FFFF__=0ABBE548DFE235B58f9e8a93d@coffeebean.com>":
 Am Freitag\, 6. April 2018\, um 16.00 Uhr\, findet ein Lichtbildvortrag zu
 m Thema 'Piepenfritz' mit anschließender Gesprächsrunde statt. Der Freunde
 skreis Piepenfritz und der Historische Verein Herne / Wanne-Eickel laden d
 azu alle interessierten BürgerInnen ein.\nDer Vortrag findet im Tennisclub
  Friedrich der Große\, Kanalstraße 9\, 44628 Herne\, statt.
DTSTART:20180406T140000Z
DTEND:20180406T160000Z
GEO:+51.55172;+7.225826
LOCATION:Tennisclub Friedrich der Große
ORGANIZER:
SEQUENCE:1
SUMMARY:Lichtbildvortrag zum Thema Bergbau
TRANSP:OPAQUE
URL:https://hv-her-wan.de/index.php/component/icagenda/25-david-nash-holz-u
 nd-kohle-2
END:VEVENT
END:VCALENDAR
