BEGIN:VCALENDAR
VERSION:2.0
PRODID:-//Historischer Verein Herne / Wanne-Eickel e. V.//NONSGML kigkonsult.se iCalcreator 2.41.92//
CALSCALE:GREGORIAN
METHOD:PUBLISH
UID:63303765-6332-4465-b738-616238373064
X-WR-CALNAME:iCagenda
X-WR-CALDESC:Event Management Extension for Joomla!
X-WR-RELCALID:3E26604A-50F4-4449-8B3E-E4F4932D05B5
X-WR-TIMEZONE:Europe/Berlin
BEGIN:VTIMEZONE
TZID:Europe/Berlin
TZUNTIL:20270328T010000Z
BEGIN:STANDARD
TZNAME:CET
DTSTART:20241027T030000
TZOFFSETFROM:+0200
TZOFFSETTO:+0100
RDATE:20251026T030000
RDATE:20261025T030000
END:STANDARD
BEGIN:DAYLIGHT
TZNAME:CEST
DTSTART:20250330T020000
TZOFFSETFROM:+0100
TZOFFSETTO:+0200
RDATE:20260329T020000
END:DAYLIGHT
END:VTIMEZONE
BEGIN:VEVENT
UID:32326136-3162-4061-b334-663266303164
DTSTAMP:20260425T192252Z
CATEGORIES:Veranstaltungen
CLASS:PUBLIC
DESCRIPTION;ALTREP="CID:<FFFF__=0ABBE548DFE235B58f9e8a93d@coffeebean.com>":
 \n11-15 Uhr Straßenfest zwischen der ev. Kreuzkirche und der kath. St. Bon
 ifatius Kirche\n\nSpiel und Spaß mit Hüpfkirche\, Kreuze angeln\, Feuerweh
 r\, Fotobox u.v.m.\nrundum historisch. Der Historische Verein Herne / Wann
 e-Eickel e. V. lädt ein\, Stadtgeschichte in 360° erleben. \nEis und Gespr
 ächsangebote\nOffene Kirchen\nRepaircafé (bis 13 Uhr)\nEssen und Getränke
 \n15 Uhr Live Musik auf dem Europaplatz\n17 Uhr Irische Band CrashandOH au
 f demEuropaplatz\n
DTSTART:20250607T090000Z
DTEND:20250607T150000Z
GEO:+51.538483;+7.224372
LOCATION:Stadtmitte
ORGANIZER:
SEQUENCE:1
SUMMARY:Straßenfest
TRANSP:OPAQUE
URL:https://hv-her-wan.de/index.php/component/icagenda/120-strassenfest?lay
 out=vcal
END:VEVENT
END:VCALENDAR
